BEGIN:VCALENDAR
VERSION:2.0
PRODID:-//Be Rooted Ministries - ECPv6.15.20//NONSGML v1.0//EN
CALSCALE:GREGORIAN
METHOD:PUBLISH
X-WR-CALNAME:Be Rooted Ministries
X-ORIGINAL-URL:https://berootedministries.nl
X-WR-CALDESC:Evenementen voor Be Rooted Ministries
REFRESH-INTERVAL;VALUE=DURATION:PT1H
X-Robots-Tag:noindex
X-PUBLISHED-TTL:PT1H
BEGIN:VTIMEZONE
TZID:Europe/Helsinki
BEGIN:DAYLIGHT
TZOFFSETFROM:+0200
TZOFFSETTO:+0300
TZNAME:EEST
DTSTART:20250330T010000
END:DAYLIGHT
BEGIN:STANDARD
TZOFFSETFROM:+0300
TZOFFSETTO:+0200
TZNAME:EET
DTSTART:20251026T010000
END:STANDARD
BEGIN:DAYLIGHT
TZOFFSETFROM:+0200
TZOFFSETTO:+0300
TZNAME:EEST
DTSTART:20260329T010000
END:DAYLIGHT
BEGIN:STANDARD
TZOFFSETFROM:+0300
TZOFFSETTO:+0200
TZNAME:EET
DTSTART:20261025T010000
END:STANDARD
BEGIN:DAYLIGHT
TZOFFSETFROM:+0200
TZOFFSETTO:+0300
TZNAME:EEST
DTSTART:20270328T010000
END:DAYLIGHT
BEGIN:STANDARD
TZOFFSETFROM:+0300
TZOFFSETTO:+0200
TZNAME:EET
DTSTART:20271031T010000
END:STANDARD
END:VTIMEZONE
BEGIN:VEVENT
DTSTART;TZID=Europe/Helsinki:20260107T200000
DTEND;TZID=Europe/Helsinki:20260616T220000
DTSTAMP:20260421T184228
CREATED:20250731T121726Z
LAST-MODIFIED:20250731T121726Z
UID:238270-1767816000-1781647200@berootedministries.nl
SUMMARY:Powertraining
DESCRIPTION:
URL:https://berootedministries.nl/agenda/powertraining-51/
LOCATION:Brandwijksedijk 22b Brandwijk
END:VEVENT
BEGIN:VEVENT
DTSTART;TZID=Europe/Helsinki:20260908T193000
DTEND;TZID=Europe/Helsinki:20260908T200000
DTSTAMP:20260421T184228
CREATED:20260323T121757Z
LAST-MODIFIED:20260323T122942Z
UID:238643-1788895800-1788897600@berootedministries.nl
SUMMARY:You Are Accepted
DESCRIPTION:
URL:https://berootedministries.nl/agenda/you-are-accepted-2/
LOCATION:Brandwijksedijk 22b Brandwijk
END:VEVENT
BEGIN:VEVENT
DTSTART;TZID=Europe/Helsinki:20260922T193000
DTEND;TZID=Europe/Helsinki:20260922T220000
DTSTAMP:20260421T184228
CREATED:20260323T121417Z
LAST-MODIFIED:20260323T121457Z
UID:238640-1790105400-1790114400@berootedministries.nl
SUMMARY:You Are Accepted
DESCRIPTION:
URL:https://berootedministries.nl/agenda/you-are-accepted/
LOCATION:Brandwijksedijk 22b Brandwijk
END:VEVENT
BEGIN:VEVENT
DTSTART;TZID=Europe/Helsinki:20261006T193000
DTEND;TZID=Europe/Helsinki:20261006T220000
DTSTAMP:20260421T184228
CREATED:20260323T121857Z
LAST-MODIFIED:20260323T121857Z
UID:238645-1791315000-1791324000@berootedministries.nl
SUMMARY:You Are Accepted
DESCRIPTION:
URL:https://berootedministries.nl/agenda/you-are-accepted-3/
END:VEVENT
BEGIN:VEVENT
DTSTART;TZID=Europe/Helsinki:20261020T193000
DTEND;TZID=Europe/Helsinki:20261020T220000
DTSTAMP:20260421T184228
CREATED:20260323T122008Z
LAST-MODIFIED:20260323T122008Z
UID:238647-1792524600-1792533600@berootedministries.nl
SUMMARY:You Are Accepted
DESCRIPTION:
URL:https://berootedministries.nl/agenda/you-are-accepted-4/
LOCATION:Brandwijksedijk 22b Brandwijk
END:VEVENT
BEGIN:VEVENT
DTSTART;TZID=Europe/Helsinki:20261103T193000
DTEND;TZID=Europe/Helsinki:20261103T220000
DTSTAMP:20260421T184228
CREATED:20260323T122059Z
LAST-MODIFIED:20260323T122059Z
UID:238649-1793734200-1793743200@berootedministries.nl
SUMMARY:You Are Accepted
DESCRIPTION:
URL:https://berootedministries.nl/agenda/you-are-accepted-5/
LOCATION:Brandwijksedijk 22b Brandwijk
END:VEVENT
BEGIN:VEVENT
DTSTART;TZID=Europe/Helsinki:20261117T193000
DTEND;TZID=Europe/Helsinki:20261117T220000
DTSTAMP:20260421T184228
CREATED:20260323T122152Z
LAST-MODIFIED:20260323T122152Z
UID:238651-1794943800-1794952800@berootedministries.nl
SUMMARY:You Are accepted
DESCRIPTION:
URL:https://berootedministries.nl/agenda/you-are-accepted-6/
LOCATION:Brandwijksedijk 22b Brandwijk
END:VEVENT
BEGIN:VEVENT
DTSTART;TZID=Europe/Helsinki:20261201T193000
DTEND;TZID=Europe/Helsinki:20261201T220000
DTSTAMP:20260421T184228
CREATED:20260323T122659Z
LAST-MODIFIED:20260323T122659Z
UID:238655-1796153400-1796162400@berootedministries.nl
SUMMARY:You Are Accepted
DESCRIPTION:
URL:https://berootedministries.nl/agenda/you-are-accepted-8/
LOCATION:Brandwijksedijk 22b Brandwijk
END:VEVENT
BEGIN:VEVENT
DTSTART;TZID=Europe/Helsinki:20261215T193000
DTEND;TZID=Europe/Helsinki:20261215T220000
DTSTAMP:20260421T184228
CREATED:20260323T122450Z
LAST-MODIFIED:20260323T122450Z
UID:238653-1797363000-1797372000@berootedministries.nl
SUMMARY:You Are Accepted
DESCRIPTION:
URL:https://berootedministries.nl/agenda/you-are-accepted-7/
LOCATION:Brandwijksedijk 22b Brandwijk
END:VEVENT
END:VCALENDAR